BEGIN:VCALENDAR
VERSION:2.0
PRODID:-//Dömitz - ECPv6.15.20//NONSGML v1.0//EN
CALSCALE:GREGORIAN
METHOD:PUBLISH
X-WR-CALNAME:Dömitz
X-ORIGINAL-URL:https://doemitz.de
X-WR-CALDESC:Veranstaltungen für Dömitz
REFRESH-INTERVAL;VALUE=DURATION:PT1H
X-Robots-Tag:noindex
X-PUBLISHED-TTL:PT1H
BEGIN:VTIMEZONE
TZID:Europe/Berlin
BEGIN:DAYLIGHT
TZOFFSETFROM:+0100
TZOFFSETTO:+0200
TZNAME:CEST
DTSTART:20240331T010000
END:DAYLIGHT
BEGIN:STANDARD
TZOFFSETFROM:+0200
TZOFFSETTO:+0100
TZNAME:CET
DTSTART:20241027T010000
END:STANDARD
BEGIN:DAYLIGHT
TZOFFSETFROM:+0100
TZOFFSETTO:+0200
TZNAME:CEST
DTSTART:20250330T010000
END:DAYLIGHT
BEGIN:STANDARD
TZOFFSETFROM:+0200
TZOFFSETTO:+0100
TZNAME:CET
DTSTART:20251026T010000
END:STANDARD
BEGIN:DAYLIGHT
TZOFFSETFROM:+0100
TZOFFSETTO:+0200
TZNAME:CEST
DTSTART:20260329T010000
END:DAYLIGHT
BEGIN:STANDARD
TZOFFSETFROM:+0200
TZOFFSETTO:+0100
TZNAME:CET
DTSTART:20261025T010000
END:STANDARD
END:VTIMEZONE
BEGIN:VEVENT
DTSTART;TZID=Europe/Berlin:20250809T190000
DTEND;TZID=Europe/Berlin:20250809T210000
DTSTAMP:20260422T100213
CREATED:20250619T063834Z
LAST-MODIFIED:20250619T063834Z
UID:2674-1754766000-1754773200@doemitz.de
SUMMARY:Shakespeare’s sämtliche Werke – leicht gekürzt
DESCRIPTION:Schlossfestspiele Ribbeck gastiert erneut in Dömitz. \nNach einem Besuch dieses besonderen Stücks werden die Zuschauer mit Shakespeare-Zitaten nur so glänzen können! Denn mit viel Humor und unglaublichem Tempo führt dieser Abend nicht nur Shakespeare-Kenner sondern auch neugierig Unwissende durch 37 Stücke Welttheater. Wir versprechen nach diesem „Crash-Kurs in Shakespeare“ eine neue Sichtweise auf einen alten Literaten und werden Vorstellungen mit Lach-Garantie haben! Drei Schauspieler spielen dabei alle 1.834 Rollen\, in der Tradition Shakespeares natürlich auch alle Frauen-Rollen. Die drei Männer wagen sich also an das Kunststück\, das in der Geschichte des Theaters einzigartig ist. Sie sind gefordert bei dieser durchaus sportlichen Aufgabe\, die Kondition und Durchhaltevermögen abverlangt. Darf man mit Klassikern der Literatur Spaß haben?! Man kann\, darf und soll! Das Ergebnis ist ein sensationelles Theatererlebnis! Theater macht Spaß und wer Hamlet noch nie im Schnelldurchlauf bzw. im Rückwärtsgang gesehen und gehört hat\, der hat etwas verpasst. \nKarten gibt es in der Tourist-Information Dömitz\, bei www.reservix.de und www.eventim-light.de.
URL:https://doemitz.de/event/shakespeares-saemtliche-werke-leicht-gekuerzt/
CATEGORIES:Theater
ORGANIZER;CN="Cultur Marketing GbR":MAILTO:grade@gmx.com
END:VEVENT
END:VCALENDAR