BEGIN:VCALENDAR
VERSION:2.0
PRODID:-//Dömitz - ECPv6.15.20//NONSGML v1.0//EN
CALSCALE:GREGORIAN
METHOD:PUBLISH
X-ORIGINAL-URL:https://doemitz.de
X-WR-CALDESC:Veranstaltungen für Dömitz
REFRESH-INTERVAL;VALUE=DURATION:PT1H
X-Robots-Tag:noindex
X-PUBLISHED-TTL:PT1H
BEGIN:VTIMEZONE
TZID:Europe/Berlin
BEGIN:DAYLIGHT
TZOFFSETFROM:+0100
TZOFFSETTO:+0200
TZNAME:CEST
DTSTART:20240331T010000
END:DAYLIGHT
BEGIN:STANDARD
TZOFFSETFROM:+0200
TZOFFSETTO:+0100
TZNAME:CET
DTSTART:20241027T010000
END:STANDARD
BEGIN:DAYLIGHT
TZOFFSETFROM:+0100
TZOFFSETTO:+0200
TZNAME:CEST
DTSTART:20250330T010000
END:DAYLIGHT
BEGIN:STANDARD
TZOFFSETFROM:+0200
TZOFFSETTO:+0100
TZNAME:CET
DTSTART:20251026T010000
END:STANDARD
BEGIN:DAYLIGHT
TZOFFSETFROM:+0100
TZOFFSETTO:+0200
TZNAME:CEST
DTSTART:20260329T010000
END:DAYLIGHT
BEGIN:STANDARD
TZOFFSETFROM:+0200
TZOFFSETTO:+0100
TZNAME:CET
DTSTART:20261025T010000
END:STANDARD
END:VTIMEZONE
BEGIN:VEVENT
DTSTART;TZID=Europe/Berlin:20250705T200000
DTEND;TZID=Europe/Berlin:20250705T233000
DTSTAMP:20260422T082306
CREATED:20250619T061407Z
LAST-MODIFIED:20250619T062659Z
UID:2672-1751745600-1751758200@doemitz.de
SUMMARY:Dömitzer Musiknacht
DESCRIPTION:Musikmarathon mit sechs Livebands in der Elbestadt. \nJedes Jahr am ersten Samstag im Juli verwandelt sich die Altstadt von Dömitz in eine lebendige Bühne – mit vielfältiger Livemusik. \nAb 20 Uhr startet die Dömitzer Musiknacht. Sechs Bands spielen an sechs Locations – zu jeder vollen Stunde für jeweils 45 Minuten.  \nAuf der Festung Dömitz präsentiert die Band Frollein Motte dynamischen Herzrock.
URL:https://doemitz.de/event/doemitzer-musiknacht/
CATEGORIES:Musik
ATTACH;FMTTYPE=image/webp:https://doemitz.de/wp-content/uploads/Doemitzer-Musiknacht-2024-©M.-Botzler.webp
END:VEVENT
END:VCALENDAR